BEGIN:VCALENDAR
VERSION:2.0
PRODID:icalendar-ruby
CALSCALE:GREGORIAN
BEGIN:VEVENT
DTSTAMP:20260424T131522Z
UID:108c6577-408a-430c-871b-964caccab261
DTSTART:20080625T185400
DTEND:20080625T185400
DESCRIPTION:
LOCATION:
ORGANIZER:mailto:conference@vedomosti.ru
SUMMARY:Загородная жилая недвижимость
URL:http://events.vedomosti.ru/events/zagorod8
BEGIN:VALARM
ACTION:DISPLAY
TRIGGER:-P1D
DESCRIPTION:Завтра\, в 18:54. Загородная жилая нед
 вижимость
END:VALARM
END:VEVENT
END:VCALENDAR
