BEGIN:VCALENDAR
VERSION:2.0
PRODID:icalendar-ruby
CALSCALE:GREGORIAN
BEGIN:VEVENT
DTSTAMP:20260426T032609Z
UID:230431c9-c654-414c-9c5b-60f59795fb76
DTSTART:20141217T090000
DTEND:20141217T190000
DESCRIPTION:
LOCATION:г. Москва\, Краснопресненская наб. 12
ORGANIZER:mailto:conference@vedomosti.ru
SUMMARY:Россия в ВТО: два года участия
URL:http://events.vedomosti.ru/events/wto_14
BEGIN:VALARM
ACTION:DISPLAY
TRIGGER:-P1D
DESCRIPTION:Завтра\, в 09:00. Россия в ВТО: два год
 а участия
END:VALARM
END:VEVENT
END:VCALENDAR
