BEGIN:VCALENDAR
VERSION:2.0
PRODID:icalendar-ruby
CALSCALE:GREGORIAN
BEGIN:VEVENT
DTSTAMP:20260422T182219Z
UID:01044fd0-4c27-4ff1-abe0-a9c9e6c64363
DTSTART:20131112T161100
DTEND:20131112T161200
DESCRIPTION:
LOCATION:г. Москва\, Краснопресненская наб. 12
ORGANIZER:mailto:conference@vedomosti.ru
SUMMARY:Стратегии российского бизнеса в усл
 овиях ВТО
URL:http://events.vedomosti.ru/events/wto
BEGIN:VALARM
ACTION:DISPLAY
TRIGGER:-P1D
DESCRIPTION:Завтра\, в 16:11. Стратегии российско
 го бизнеса в условиях ВТО
END:VALARM
END:VEVENT
END:VCALENDAR
