BEGIN:VCALENDAR
VERSION:2.0
PRODID:icalendar-ruby
CALSCALE:GREGORIAN
BEGIN:VEVENT
DTSTAMP:20260423T193908Z
UID:33a23a8b-dc63-4a78-9b74-fa99ca16e769
DTSTART:20231212T130000
DTEND:20231212T143000
DESCRIPTION:
LOCATION:
ORGANIZER:mailto:conference@vedomosti.ru
SUMMARY:Женщины. Лидерство. Бизнес
URL:http://events.vedomosti.ru/events/women_leadership_business
BEGIN:VALARM
ACTION:DISPLAY
TRIGGER:-P1D
DESCRIPTION:Завтра\, в 13:00. Женщины. Лидерство. Б
 изнес
END:VALARM
END:VEVENT
END:VCALENDAR
