BEGIN:VCALENDAR
VERSION:2.0
PRODID:icalendar-ruby
CALSCALE:GREGORIAN
BEGIN:VEVENT
DTSTAMP:20260421T170152Z
UID:028b486e-cd6c-43b1-9742-1b4ef6c988e8
DTSTART:20211029T093000
DTEND:20211029T180000
DESCRIPTION:
LOCATION:
ORGANIZER:mailto:conference@vedomosti.ru
SUMMARY:Женщины в бизнесе: лидерство и предп
 ринимательство
URL:http://events.vedomosti.ru/events/woman_biz
BEGIN:VALARM
ACTION:DISPLAY
TRIGGER:-P1D
DESCRIPTION:Завтра\, в 09:30. Женщины в бизнесе: ли
 дерство и предпринимательство
END:VALARM
END:VEVENT
END:VCALENDAR
