BEGIN:VCALENDAR
VERSION:2.0
PRODID:icalendar-ruby
CALSCALE:GREGORIAN
BEGIN:VEVENT
DTSTAMP:20260422T111615Z
UID:146713bb-fb74-4922-a045-a41b6a240cfd
DTSTART:20250930T100000
DTEND:20250930T180000
DESCRIPTION:
LOCATION:проспект Римского-Корсакова\, 5-7
ORGANIZER:mailto:conference@vedomosti.ru
SUMMARY:Международный бизнес: вызовы\, тренд
 ы и возможности
URL:http://events.vedomosti.ru/events/vtb
BEGIN:VALARM
ACTION:DISPLAY
TRIGGER:-P1D
DESCRIPTION:Завтра\, в 10:00. Международный бизне
 с: вызовы\, тренды и возможности
END:VALARM
END:VEVENT
END:VCALENDAR
