BEGIN:VCALENDAR
VERSION:2.0
PRODID:icalendar-ruby
CALSCALE:GREGORIAN
BEGIN:VEVENT
DTSTAMP:20260419T222309Z
UID:e98ec06e-599e-46ca-b419-1fc7e738d3cd
DTSTART:20160414T090000
DTEND:20160415T190000
DESCRIPTION:
LOCATION:улица Петровка\, 11
ORGANIZER:mailto:conference@vedomosti.ru
SUMMARY:Юридический форум России
URL:http://events.vedomosti.ru/events/urbiz16
BEGIN:VALARM
ACTION:DISPLAY
TRIGGER:-P1D
DESCRIPTION:Завтра\, в 09:00. Юридический форум Ро
 ссии
END:VALARM
END:VEVENT
END:VCALENDAR
