BEGIN:VCALENDAR
VERSION:2.0
PRODID:icalendar-ruby
CALSCALE:GREGORIAN
BEGIN:VEVENT
DTSTAMP:20260425T201807Z
UID:ca8adc63-4601-40a2-92c9-268c77c4bb3f
DTSTART:20150416T090000
DTEND:20150417T180000
DESCRIPTION:
LOCATION:улица Петровка\, 11
ORGANIZER:mailto:conference@vedomosti.ru
SUMMARY:Юридический форум России
URL:http://events.vedomosti.ru/events/urbiz15
BEGIN:VALARM
ACTION:DISPLAY
TRIGGER:-P1D
DESCRIPTION:Завтра\, в 09:00. Юридический форум Ро
 ссии
END:VALARM
END:VEVENT
END:VCALENDAR
