BEGIN:VCALENDAR
VERSION:2.0
PRODID:icalendar-ruby
CALSCALE:GREGORIAN
BEGIN:VEVENT
DTSTAMP:20260421T061751Z
UID:150f87c3-2213-4f14-87f2-57896a00dd77
DTSTART:20100408T115300
DTEND:20100409T115400
DESCRIPTION:
LOCATION:улица Петровка\, 11
ORGANIZER:mailto:conference@vedomosti.ru
SUMMARY:Юридический форум
URL:http://events.vedomosti.ru/events/urbiz10
BEGIN:VALARM
ACTION:DISPLAY
TRIGGER:-P1D
DESCRIPTION:Завтра\, в 11:53. Юридический форум
END:VALARM
END:VEVENT
END:VCALENDAR
