BEGIN:VCALENDAR
VERSION:2.0
PRODID:icalendar-ruby
CALSCALE:GREGORIAN
BEGIN:VEVENT
DTSTAMP:20260422T213617Z
UID:0705df6f-9e19-4cc6-a181-8417da911041
DTSTART:20091125T185400
DTEND:20091125T185400
DESCRIPTION:
LOCATION:ул. Тверская\, д. 3
ORGANIZER:mailto:conference@vedomosti.ru
SUMMARY:Управление активами
URL:http://events.vedomosti.ru/events/uprak9
BEGIN:VALARM
ACTION:DISPLAY
TRIGGER:-P1D
DESCRIPTION:Завтра\, в 18:54. Управление активами
END:VALARM
END:VEVENT
END:VCALENDAR
