BEGIN:VCALENDAR
VERSION:2.0
PRODID:icalendar-ruby
CALSCALE:GREGORIAN
BEGIN:VEVENT
DTSTAMP:20260426T015825Z
UID:5cb06b09-5533-448b-aa12-17345f553571
DTSTART:20101124T113400
DTEND:20101124T113400
DESCRIPTION:
LOCATION:ул. Тверская\, д. 3
ORGANIZER:mailto:conference@vedomosti.ru
SUMMARY:Управление активами
URL:http://events.vedomosti.ru/events/ua10
BEGIN:VALARM
ACTION:DISPLAY
TRIGGER:-P1D
DESCRIPTION:Завтра\, в 11:34. Управление активами
END:VALARM
END:VEVENT
END:VCALENDAR
