BEGIN:VCALENDAR
VERSION:2.0
PRODID:icalendar-ruby
CALSCALE:GREGORIAN
BEGIN:VEVENT
DTSTAMP:20260423T120902Z
UID:fd41115d-f686-46cf-894e-d16991053df3
DTSTART:20210421T090000
DTEND:20210421T190000
DESCRIPTION:
LOCATION:Тверская улица\, 22
ORGANIZER:mailto:conference@vedomosti.ru
SUMMARY:Туризм в России: курс на регионы
URL:http://events.vedomosti.ru/events/turizm21
BEGIN:VALARM
ACTION:DISPLAY
TRIGGER:-P1D
DESCRIPTION:Завтра\, в 09:00. Туризм в России: курс
  на регионы
END:VALARM
END:VEVENT
END:VCALENDAR
