BEGIN:VCALENDAR
VERSION:2.0
PRODID:icalendar-ruby
CALSCALE:GREGORIAN
BEGIN:VEVENT
DTSTAMP:20260424T031038Z
UID:ab940f8d-8198-438b-b391-be23f4c28b8d
DTSTART:20120315T213200
DTEND:20120315T213200
DESCRIPTION:
LOCATION:ул. Тверская\, д. 3
ORGANIZER:mailto:conference@vedomosti.ru
SUMMARY:Евразийский транспортно-логистичес
 кий форум
URL:http://events.vedomosti.ru/events/trlog12
BEGIN:VALARM
ACTION:DISPLAY
TRIGGER:-P1D
DESCRIPTION:Завтра\, в 21:32. Евразийский транспо
 ртно-логистический форум
END:VALARM
END:VEVENT
END:VCALENDAR
