BEGIN:VCALENDAR
VERSION:2.0
PRODID:icalendar-ruby
CALSCALE:GREGORIAN
BEGIN:VEVENT
DTSTAMP:20260423T085127Z
UID:2642a551-ebc2-4a52-874c-fe0e8dc147cc
DTSTART:20150730T000000
DTEND:20150730T000000
DESCRIPTION:
LOCATION:ул. Тверская д. 3-5
ORGANIZER:mailto:conference@vedomosti.ru
SUMMARY:Интегрированные коммуникации в недв
 ижимости в эпоху digital
URL:http://events.vedomosti.ru/events/trip
BEGIN:VALARM
ACTION:DISPLAY
TRIGGER:-P1D
DESCRIPTION:Завтра\, в 00:00. Интегрированные ком
 муникации в недвижимости в эпоху digital
END:VALARM
END:VEVENT
END:VCALENDAR
