BEGIN:VCALENDAR
VERSION:2.0
PRODID:icalendar-ruby
CALSCALE:GREGORIAN
BEGIN:VEVENT
DTSTAMP:20260424T043216Z
UID:2acbce96-5772-4a19-b9a8-0619d594c789
DTSTART:20170321T090000
DTEND:20170321T180000
DESCRIPTION:
LOCATION:Ленинградский проспект\, 31Ас1
ORGANIZER:mailto:conference@vedomosti.ru
SUMMARY:Барьеры и точки роста для транспортн
 ой отрасли России
URL:http://events.vedomosti.ru/events/transport17
BEGIN:VALARM
ACTION:DISPLAY
TRIGGER:-P1D
DESCRIPTION:Завтра\, в 09:00. Барьеры и точки рост
 а для транспортной отрасли России
END:VALARM
END:VEVENT
END:VCALENDAR
