BEGIN:VCALENDAR
VERSION:2.0
PRODID:icalendar-ruby
CALSCALE:GREGORIAN
BEGIN:VEVENT
DTSTAMP:20260424T085850Z
UID:2a0021b5-46eb-424a-bdeb-05430d1c4e2a
DTSTART:20170710T090000
DTEND:20170710T190000
DESCRIPTION:
LOCATION:бульвар Экспо\, 2А\, Стенд 1D41
ORGANIZER:mailto:conference@vedomosti.ru
SUMMARY:Развитие транспортно-инфраструктур
 ных проектов России: основные вызовы
URL:http://events.vedomosti.ru/events/transinfo_17
BEGIN:VALARM
ACTION:DISPLAY
TRIGGER:-P1D
DESCRIPTION:Завтра\, в 09:00. Развитие транспортн
 о-инфраструктурных проектов России: осн
 овные вызовы
END:VALARM
END:VEVENT
END:VCALENDAR
