BEGIN:VCALENDAR
VERSION:2.0
PRODID:icalendar-ruby
CALSCALE:GREGORIAN
BEGIN:VEVENT
DTSTAMP:20260424T114506Z
UID:5a0f1f59-1fec-4194-b70d-ef5287b34d88
DTSTART:20170323T090000
DTEND:20170323T180000
DESCRIPTION:
LOCATION:Театральный проезд\, 2
ORGANIZER:mailto:conference@vedomosti.ru
SUMMARY:Будущее централизованного теплосна
 бжения в России
URL:http://events.vedomosti.ru/events/teplo17
BEGIN:VALARM
ACTION:DISPLAY
TRIGGER:-P1D
DESCRIPTION:Завтра\, в 09:00. Будущее централизов
 анного теплоснабжения в России
END:VALARM
END:VEVENT
END:VCALENDAR
