BEGIN:VCALENDAR
VERSION:2.0
PRODID:icalendar-ruby
CALSCALE:GREGORIAN
BEGIN:VEVENT
DTSTAMP:20260421T182606Z
UID:8b84a1e0-575b-4a10-b147-c8d6fc5da85e
DTSTART:20220616T090000
DTEND:20220616T164000
DESCRIPTION:
LOCATION:Петербургское шоссе\, д. 64/1\, павильо
 н G\, зона Business Priority
ORGANIZER:mailto:conference@vedomosti.ru
SUMMARY:Трансформация и автоматизация бизне
 са: российский путь
URL:http://events.vedomosti.ru/events/telepmef_22
BEGIN:VALARM
ACTION:DISPLAY
TRIGGER:-P1D
DESCRIPTION:Завтра\, в 09:00. Трансформация и авто
 матизация бизнеса: российский путь
END:VALARM
END:VEVENT
END:VCALENDAR
