BEGIN:VCALENDAR
VERSION:2.0
PRODID:icalendar-ruby
CALSCALE:GREGORIAN
BEGIN:VEVENT
DTSTAMP:20260421T133809Z
UID:2c1e39ea-b278-4d5f-8ea7-06e2022cad31
DTSTART:20190607T090000
DTEND:20190607T190000
DESCRIPTION:
LOCATION:Петербургское шоссе\, 62к1
ORGANIZER:mailto:conference@vedomosti.ru
SUMMARY:Новый телеком: расширяя границы отра
 сли
URL:http://events.vedomosti.ru/events/telepmef_19
BEGIN:VALARM
ACTION:DISPLAY
TRIGGER:-P1D
DESCRIPTION:Завтра\, в 09:00. Новый телеком: расши
 ряя границы отрасли
END:VALARM
END:VEVENT
END:VCALENDAR
