BEGIN:VCALENDAR
VERSION:2.0
PRODID:icalendar-ruby
CALSCALE:GREGORIAN
BEGIN:VEVENT
DTSTAMP:20260426T042815Z
UID:127a0913-0778-4733-a03e-1d80d2397e5f
DTSTART:20260402T000000
DTEND:20260402T180000
DESCRIPTION:
LOCATION:2-я Звенигородская ул.\, 12\, стр. 18
ORGANIZER:mailto:conference@vedomosti.ru
SUMMARY:Телеком 2026
URL:http://events.vedomosti.ru/events/telekom26
BEGIN:VALARM
ACTION:DISPLAY
TRIGGER:-P1D
DESCRIPTION:Завтра\, в 00:00. Телеком 2026
END:VALARM
END:VEVENT
END:VCALENDAR
