BEGIN:VCALENDAR
VERSION:2.0
PRODID:icalendar-ruby
CALSCALE:GREGORIAN
BEGIN:VEVENT
DTSTAMP:20260423T165338Z
UID:ca6ca95b-3b3d-42f3-83e4-9f4740dd247d
DTSTART:20250409T090000
DTEND:20250409T180000
DESCRIPTION:
LOCATION:2-я Звенигородская ул.\, 12\, стр. 18
ORGANIZER:mailto:conference@vedomosti.ru
SUMMARY:Телеком 2025
URL:http://events.vedomosti.ru/events/telekom25
BEGIN:VALARM
ACTION:DISPLAY
TRIGGER:-P1D
DESCRIPTION:Завтра\, в 09:00. Телеком 2025
END:VALARM
END:VEVENT
END:VCALENDAR
