BEGIN:VCALENDAR
VERSION:2.0
PRODID:icalendar-ruby
CALSCALE:GREGORIAN
BEGIN:VEVENT
DTSTAMP:20260422T003144Z
UID:dc537fb6-7dcd-481d-9e58-4172c401e94f
DTSTART:20240409T090000
DTEND:20240409T160000
DESCRIPTION:
LOCATION:2-я Звенигородская ул.\, 12\, стр. 18
ORGANIZER:mailto:conference@vedomosti.ru
SUMMARY:Телеком 2024
URL:http://events.vedomosti.ru/events/telekom24
BEGIN:VALARM
ACTION:DISPLAY
TRIGGER:-P1D
DESCRIPTION:Завтра\, в 09:00. Телеком 2024
END:VALARM
END:VEVENT
END:VCALENDAR
