BEGIN:VCALENDAR
VERSION:2.0
PRODID:icalendar-ruby
CALSCALE:GREGORIAN
BEGIN:VEVENT
DTSTAMP:20260423T181211Z
UID:e43f3a87-8dd5-4d7d-b73b-cc2f366830d8
DTSTART:20230426T100000
DTEND:20230426T170000
DESCRIPTION:
LOCATION:Новинский бульвар\, д.8\, стр.2
ORGANIZER:mailto:conference@vedomosti.ru
SUMMARY:Телеком: трансформация бизнес-модел
 ей и поиск новых решений
URL:http://events.vedomosti.ru/events/telekom23
BEGIN:VALARM
ACTION:DISPLAY
TRIGGER:-P1D
DESCRIPTION:Завтра\, в 10:00. Телеком: трансформац
 ия бизнес-моделей и поиск новых решений
END:VALARM
END:VEVENT
END:VCALENDAR
