BEGIN:VCALENDAR
VERSION:2.0
PRODID:icalendar-ruby
CALSCALE:GREGORIAN
BEGIN:VEVENT
DTSTAMP:20260421T095832Z
UID:f5c37c37-1cdc-4aea-b62d-7664f65616c3
DTSTART:20200603T090000
DTEND:20200603T180000
DESCRIPTION:
LOCATION:
ORGANIZER:mailto:conference@vedomosti.ru
SUMMARY:Телекоммуникации: Now. Next. Beyond. Самоизо
 ляция на высоких скоростях
URL:http://events.vedomosti.ru/events/telekom20online
BEGIN:VALARM
ACTION:DISPLAY
TRIGGER:-P1D
DESCRIPTION:Завтра\, в 09:00. Телекоммуникации: Now.
  Next. Beyond. Самоизоляция на высоких скорост
 ях
END:VALARM
END:VEVENT
END:VCALENDAR
