BEGIN:VCALENDAR
VERSION:2.0
PRODID:icalendar-ruby
CALSCALE:GREGORIAN
BEGIN:VEVENT
DTSTAMP:20260419T205600Z
UID:915e14f3-4d2d-4fb6-8016-ccf862d7d494
DTSTART:20170523T090000
DTEND:20170523T180000
DESCRIPTION:
LOCATION:Новинский бульвар\, 8с2
ORGANIZER:mailto:conference@vedomosti.ru
SUMMARY:Телеком 2017
URL:http://events.vedomosti.ru/events/telekom17
BEGIN:VALARM
ACTION:DISPLAY
TRIGGER:-P1D
DESCRIPTION:Завтра\, в 09:00. Телеком 2017
END:VALARM
END:VEVENT
END:VCALENDAR
