BEGIN:VCALENDAR
VERSION:2.0
PRODID:icalendar-ruby
CALSCALE:GREGORIAN
BEGIN:VEVENT
DTSTAMP:20260419T223138Z
UID:1a318dbf-fce8-4696-830a-2e06d86910e4
DTSTART:20120424T163900
DTEND:20120424T163900
DESCRIPTION:
LOCATION:ул. Тверская\, д. 3
ORGANIZER:mailto:conference@vedomosti.ru
SUMMARY:Телеком 2012
URL:http://events.vedomosti.ru/events/telekom12
BEGIN:VALARM
ACTION:DISPLAY
TRIGGER:-P1D
DESCRIPTION:Завтра\, в 16:39. Телеком 2012
END:VALARM
END:VEVENT
END:VCALENDAR
