BEGIN:VCALENDAR
VERSION:2.0
PRODID:icalendar-ruby
CALSCALE:GREGORIAN
BEGIN:VEVENT
DTSTAMP:20260422T171156Z
UID:fc0b5a82-7ee1-46e8-9a8d-fd183a2ed55c
DTSTART:20101029T121500
DTEND:20101029T121500
DESCRIPTION:
LOCATION:ул. Тверская\, д. 3
ORGANIZER:mailto:conference@vedomosti.ru
SUMMARY:Форум ТЭК России
URL:http://events.vedomosti.ru/events/tek10
BEGIN:VALARM
ACTION:DISPLAY
TRIGGER:-P1D
DESCRIPTION:Завтра\, в 12:15. Форум ТЭК России
END:VALARM
END:VEVENT
END:VCALENDAR
