BEGIN:VCALENDAR
VERSION:2.0
PRODID:icalendar-ruby
CALSCALE:GREGORIAN
BEGIN:VEVENT
DTSTAMP:20260419T192100Z
UID:6afc4041-78fe-4c0b-80c8-b6b2aebcb0a1
DTSTART:20250528T170000
DTEND:20250528T184500
DESCRIPTION:
LOCATION:2-я Звенигородская ул.\, 12\, стр. 18
ORGANIZER:mailto:conference@vedomosti.ru
SUMMARY:Техногазели будущего
URL:http://events.vedomosti.ru/events/tech_uspech25
BEGIN:VALARM
ACTION:DISPLAY
TRIGGER:-P1D
DESCRIPTION:Завтра\, в 17:00. Техногазели будущег
 о
END:VALARM
END:VEVENT
END:VCALENDAR
