BEGIN:VCALENDAR
VERSION:2.0
PRODID:icalendar-ruby
CALSCALE:GREGORIAN
BEGIN:VEVENT
DTSTAMP:20260423T012015Z
UID:59245da5-b095-4779-b494-98ff90398cb4
DTSTART:20160609T080000
DTEND:20160609T170000
DESCRIPTION:
LOCATION:ул. Тверская\, 26
ORGANIZER:mailto:conference@vedomosti.ru
SUMMARY:Налоговые стратегии 2016: практически
 й опыт и перспективы развития
URL:http://events.vedomosti.ru/events/tax_strategies
BEGIN:VALARM
ACTION:DISPLAY
TRIGGER:-P1D
DESCRIPTION:Завтра\, в 08:00. Налоговые стратегии 
 2016: практический опыт и перспективы разв
 ития
END:VALARM
END:VEVENT
END:VCALENDAR
