BEGIN:VCALENDAR
VERSION:2.0
PRODID:icalendar-ruby
CALSCALE:GREGORIAN
BEGIN:VEVENT
DTSTAMP:20260423T215423Z
UID:4e9ade37-0f2b-4231-bdb8-7c2b73a2f915
DTSTART:20200728T090000
DTEND:20200728T190000
DESCRIPTION:
LOCATION:
ORGANIZER:mailto:conference@vedomosti.ru
SUMMARY:Роль капитана в шторм – грамотное ре
 гулирование. Макроэкономический прогно
 з и его следствия для регулятора и игрок
 ов рынка
URL:http://events.vedomosti.ru/events/storm
BEGIN:VALARM
ACTION:DISPLAY
TRIGGER:-P1D
DESCRIPTION:Завтра\, в 09:00. Роль капитана в штор
 м – грамотное регулирование. Макроэконо
 мический прогноз и его следствия для рег
 улятора и игроков рынка
END:VALARM
END:VEVENT
END:VCALENDAR
