BEGIN:VCALENDAR
VERSION:2.0
PRODID:icalendar-ruby
CALSCALE:GREGORIAN
BEGIN:VEVENT
DTSTAMP:20260419T225637Z
UID:9b6352ec-ba6c-4225-8c4f-4d862d77d56a
DTSTART:20250206T110000
DTEND:20250206T130000
DESCRIPTION:
LOCATION:Кузнечная улица\, 6
ORGANIZER:mailto:conference@vedomosti.ru
SUMMARY:Строительный рынок Юга и Северо-Запа
 да: итоги 2024 года и планы на 2025 год
URL:http://events.vedomosti.ru/events/spb_stroitelnii_rinok_ug_i_severo-zap
 ad
BEGIN:VALARM
ACTION:DISPLAY
TRIGGER:-P1D
DESCRIPTION:Завтра\, в 11:00. Строительный рынок Ю
 га и Северо-Запада: итоги 2024 года и планы 
 на 2025 год
END:VALARM
END:VEVENT
END:VCALENDAR
