BEGIN:VCALENDAR
VERSION:2.0
PRODID:icalendar-ruby
CALSCALE:GREGORIAN
BEGIN:VEVENT
DTSTAMP:20260419T194501Z
UID:2b03975b-c7b2-456a-a8ec-96eb0c053eed
DTSTART:20241211T110000
DTEND:20241211T133000
DESCRIPTION:
ORGANIZER:mailto:conference@vedomosti.ru
SUMMARY:Социальные и экономические аспекты 
 развития цифровых платформ в России
URL:http://events.vedomosti.ru/events/spb_socialnie_aspkti_razvitia_tsifrov
 ih
BEGIN:VALARM
ACTION:DISPLAY
TRIGGER:-P1D
DESCRIPTION:Завтра\, в 11:00. Социальные и экономи
 ческие аспекты развития цифровых платфо
 рм в России
END:VALARM
END:VEVENT
END:VCALENDAR
