BEGIN:VCALENDAR
VERSION:2.0
PRODID:icalendar-ruby
CALSCALE:GREGORIAN
BEGIN:VEVENT
DTSTAMP:20260421T213235Z
UID:8cda228f-7a5e-4022-88ed-276590714d07
DTSTART:20210318T110000
DTEND:20210318T123000
DESCRIPTION:
LOCATION:
ORGANIZER:mailto:conference@vedomosti.ru
SUMMARY:Эфир 1. Тренды цифрового маркетинга
URL:http://events.vedomosti.ru/events/spb_smartbusiness_1
BEGIN:VALARM
ACTION:DISPLAY
TRIGGER:-P1D
DESCRIPTION:Завтра\, в 11:00. Эфир 1. Тренды цифров
 ого маркетинга
END:VALARM
END:VEVENT
END:VCALENDAR
