BEGIN:VCALENDAR
VERSION:2.0
PRODID:icalendar-ruby
CALSCALE:GREGORIAN
BEGIN:VEVENT
DTSTAMP:20260423T151639Z
UID:96bf9a5d-ece3-461e-9f6d-37c99a0daf81
DTSTART:20260421T100000
DTEND:20260421T150000
DESCRIPTION:
LOCATION:Россия\, Вознесенский пр.\, д. 1
ORGANIZER:mailto:conference@vedomosti.ru
SUMMARY:Стратегии капитала: перезагрузка ин
 вестиционного портфеля – 2026
URL:http://events.vedomosti.ru/events/spb_russia_strategii_kapitala_perezag
 ruzka_investitsionnogo_portfelya_2026
BEGIN:VALARM
ACTION:DISPLAY
TRIGGER:-P1D
DESCRIPTION:Завтра\, в 10:00. Стратегии капитала: 
 перезагрузка инвестиционного портфеля 
 – 2026
END:VALARM
END:VEVENT
END:VCALENDAR
