BEGIN:VCALENDAR
VERSION:2.0
PRODID:icalendar-ruby
CALSCALE:GREGORIAN
BEGIN:VEVENT
DTSTAMP:20260424T050421Z
UID:c2b2774d-50e5-42f4-b1a7-171e17b2b04f
DTSTART:20260428T000000
DTEND:20260428T000000
DESCRIPTION:
LOCATION:Россия\, Вознесенский пр.\, д. 1
ORGANIZER:mailto:conference@vedomosti.ru
SUMMARY:Элитная недвижимость – 2026: от статус
 а к стратегическому активу
URL:http://events.vedomosti.ru/events/spb_russia_elitnaya_nedvizhimost_2026
 _ot_statusa_k_strategicheskomu_aktivu
BEGIN:VALARM
ACTION:DISPLAY
TRIGGER:-P1D
DESCRIPTION:Завтра\, в 00:00. Элитная недвижимост
 ь – 2026: от статуса к стратегическому акт
 иву
END:VALARM
END:VEVENT
END:VCALENDAR
