BEGIN:VCALENDAR
VERSION:2.0
PRODID:icalendar-ruby
CALSCALE:GREGORIAN
BEGIN:VEVENT
DTSTAMP:20260423T212416Z
UID:e9c1ebba-9c4f-4eb4-9967-4f9261d6dd08
DTSTART:20260407T103000
DTEND:20260407T130000
DESCRIPTION:
LOCATION:Измайловский бульвар\, д. 1\, корп. 2
ORGANIZER:mailto:conference@vedomosti.ru
SUMMARY:Всемирный День Здоровья
URL:http://events.vedomosti.ru/events/spb_russia_den_zdorovia
BEGIN:VALARM
ACTION:DISPLAY
TRIGGER:-P1D
DESCRIPTION:Завтра\, в 10:30. Всемирный День Здоро
 вья
END:VALARM
END:VEVENT
END:VCALENDAR
