BEGIN:VCALENDAR
VERSION:2.0
PRODID:icalendar-ruby
CALSCALE:GREGORIAN
BEGIN:VEVENT
DTSTAMP:20260420T182747Z
UID:beddb506-46c7-4a43-9768-202cfda5d36c
DTSTART:20251029T110000
DTEND:20251029T140000
DESCRIPTION:
ORGANIZER:mailto:conference@vedomosti.ru
SUMMARY:Экологический контроль и экопросвещ
 ение: новые вызовы и возможности
URL:http://events.vedomosti.ru/events/spb_russia_Otkrytaya_ekologiya_3_0_ek
 ologicheskiy_kontrol_i_prosveshcheniye
BEGIN:VALARM
ACTION:DISPLAY
TRIGGER:-P1D
DESCRIPTION:Завтра\, в 11:00. Экологический контр
 оль и экопросвещение: новые вызовы и воз
 можности
END:VALARM
END:VEVENT
END:VCALENDAR
