BEGIN:VCALENDAR
VERSION:2.0
PRODID:icalendar-ruby
CALSCALE:GREGORIAN
BEGIN:VEVENT
DTSTAMP:20260421T145929Z
UID:9676b557-663b-4d9a-ad3c-f56f7f92f599
DTSTART:20241114T114500
DTEND:20241114T154500
DESCRIPTION:
LOCATION:Почтамтский пер.\, 4
ORGANIZER:mailto:conference@vedomosti.ru
SUMMARY:Отечественные решения. Опережающее 
 развитие ИТ-отрасли
URL:http://events.vedomosti.ru/events/spb_otechestvennie_resheniya_operejau
 shee_razvitie
BEGIN:VALARM
ACTION:DISPLAY
TRIGGER:-P1D
DESCRIPTION:Завтра\, в 11:45. Отечественные решен
 ия. Опережающее развитие ИТ-отрасли
END:VALARM
END:VEVENT
END:VCALENDAR
