BEGIN:VCALENDAR
VERSION:2.0
PRODID:icalendar-ruby
CALSCALE:GREGORIAN
BEGIN:VEVENT
DTSTAMP:20260422T220121Z
UID:ba5ef08b-ae3d-4903-bcb6-e33deafab83c
DTSTART:20171027T093000
DTEND:20171027T133000
DESCRIPTION:
LOCATION:Большой проспект Васильевского ост
 рова\, 103Г
ORGANIZER:mailto:conference@vedomosti.ru
SUMMARY:Современные образовательные технол
 огии
URL:http://events.vedomosti.ru/events/spb_obrazovanie2017
BEGIN:VALARM
ACTION:DISPLAY
TRIGGER:-P1D
DESCRIPTION:Завтра\, в 09:30. Современные образов
 ательные технологии
END:VALARM
END:VEVENT
END:VCALENDAR
