BEGIN:VCALENDAR
VERSION:2.0
PRODID:icalendar-ruby
CALSCALE:GREGORIAN
BEGIN:VEVENT
DTSTAMP:20260423T200402Z
UID:0be13ef3-43db-411b-96f0-11721bec90c8
DTSTART:20170621T093000
DTEND:20170621T203000
DESCRIPTION:
LOCATION:проспект Медиков\, 3
ORGANIZER:mailto:conference@vedomosti.ru
SUMMARY:Машиностроение. Перспективы развити
 я в Северо-Западном регионе
URL:http://events.vedomosti.ru/events/spb_mashinostroenie
BEGIN:VALARM
ACTION:DISPLAY
TRIGGER:-P1D
DESCRIPTION:Завтра\, в 09:30. Машиностроение. Перс
 пективы развития в Северо-Западном реги
 оне
END:VALARM
END:VEVENT
END:VCALENDAR
