BEGIN:VCALENDAR
VERSION:2.0
PRODID:icalendar-ruby
CALSCALE:GREGORIAN
BEGIN:VEVENT
DTSTAMP:20260425T110234Z
UID:a7bdd77c-a34d-4d3e-a8bb-a3ceab642d53
DTSTART:20250207T110000
DTEND:20250207T130000
DESCRIPTION:
LOCATION:Кирпичный переулок\, 4а
ORGANIZER:mailto:conference@vedomosti.ru
SUMMARY:Что ждет бизнес в 2025 году: изменение 
 налогового\, трудового законодательства
  и госрегулирования
URL:http://events.vedomosti.ru/events/spb_krugliy_stol_chto_jdet_biznes_v_2
 025g
BEGIN:VALARM
ACTION:DISPLAY
TRIGGER:-P1D
DESCRIPTION:Завтра\, в 11:00. Что ждет бизнес в 2025 
 году: изменение налогового\, трудового з
 аконодательства и госрегулирования
END:VALARM
END:VEVENT
END:VCALENDAR
