BEGIN:VCALENDAR
VERSION:2.0
PRODID:icalendar-ruby
CALSCALE:GREGORIAN
BEGIN:VEVENT
DTSTAMP:20260423T034314Z
UID:2e2328df-5469-493f-ad45-d22a6618afd9
DTSTART:20170315T093000
DTEND:20170315T180000
DESCRIPTION:
LOCATION:Владимирский проспект\, 9
ORGANIZER:mailto:conference@vedomosti.ru
SUMMARY:Клуб финансовых директоров 2017
URL:http://events.vedomosti.ru/events/spb_kfd2017
BEGIN:VALARM
ACTION:DISPLAY
TRIGGER:-P1D
DESCRIPTION:Завтра\, в 09:30. Клуб финансовых дире
 кторов 2017
END:VALARM
END:VEVENT
END:VCALENDAR
