BEGIN:VCALENDAR
VERSION:2.0
PRODID:icalendar-ruby
CALSCALE:GREGORIAN
BEGIN:VEVENT
DTSTAMP:20260421T024118Z
UID:0270fa95-b5e9-4142-a59c-fb144b68002e
DTSTART:20221221T110000
DTEND:20221221T140000
DESCRIPTION:
ORGANIZER:mailto:conference@vedomosti.ru
SUMMARY:Итоги года с Ведомостями в прямом эф
 ире
URL:http://events.vedomosti.ru/events/spb_itogi_goda_s_vedomosti
BEGIN:VALARM
ACTION:DISPLAY
TRIGGER:-P1D
DESCRIPTION:Завтра\, в 11:00. Итоги года с Ведомос
 тями в прямом эфире
END:VALARM
END:VEVENT
END:VCALENDAR
