BEGIN:VCALENDAR
VERSION:2.0
PRODID:icalendar-ruby
CALSCALE:GREGORIAN
BEGIN:VEVENT
DTSTAMP:20260423T004430Z
UID:249bd68a-9e17-41ce-b463-b44a10455eda
DTSTART:20161207T090000
DTEND:20161207T160000
DESCRIPTION:
ORGANIZER:mailto:conference@vedomosti.ru
SUMMARY:HR-бренд: инструкция по применению. Ка
 к стать работодателем мечты.
URL:http://events.vedomosti.ru/events/spb_hrbrand
BEGIN:VALARM
ACTION:DISPLAY
TRIGGER:-P1D
DESCRIPTION:Завтра\, в 09:00. HR-бренд: инструкция п
 о применению. Как стать работодателем ме
 чты.
END:VALARM
END:VEVENT
END:VCALENDAR
