BEGIN:VCALENDAR
VERSION:2.0
PRODID:icalendar-ruby
CALSCALE:GREGORIAN
BEGIN:VEVENT
DTSTAMP:20260421T113520Z
UID:2a907197-660d-4e27-8fe1-c1d4823fce7f
DTSTART:20220209T110000
DTEND:20220209T140000
DESCRIPTION:
LOCATION:
ORGANIZER:mailto:conference@vedomosti.ru
SUMMARY:ESG*- трансформация бизнеса: тренд\, ин
 вестиции\, развитие
URL:http://events.vedomosti.ru/events/spb_esg_2022
BEGIN:VALARM
ACTION:DISPLAY
TRIGGER:-P1D
DESCRIPTION:Завтра\, в 11:00. ESG*- трансформация би
 знеса: тренд\, инвестиции\, развитие
END:VALARM
END:VEVENT
END:VCALENDAR
