BEGIN:VCALENDAR
VERSION:2.0
PRODID:icalendar-ruby
CALSCALE:GREGORIAN
BEGIN:VEVENT
DTSTAMP:20260424T012645Z
UID:c95439a0-0a25-4757-a9ff-753ce03c5aeb
DTSTART:20230427T100000
DTEND:20230427T130000
DESCRIPTION:
LOCATION:Россия\, Санкт-Петербург\, Михайловс
 кая ул.\, 1/7
ORGANIZER:mailto:conference@vedomosti.ru
SUMMARY:Споры с иностранными компаниями и ба
 нкротство в России: как топ-менеджменту 
 защитить свой бизнес?
URL:http://events.vedomosti.ru/events/spb_disputes_with_foreign_companies
BEGIN:VALARM
ACTION:DISPLAY
TRIGGER:-P1D
DESCRIPTION:Завтра\, в 10:00. Споры с иностранными
  компаниями и банкротство в России: как т
 оп-менеджменту защитить свой бизнес?
END:VALARM
END:VEVENT
END:VCALENDAR
