BEGIN:VCALENDAR
VERSION:2.0
PRODID:icalendar-ruby
CALSCALE:GREGORIAN
BEGIN:VEVENT
DTSTAMP:20260424T000715Z
UID:9458a20f-dd20-437a-b36a-c93364f3b613
DTSTART:20230927T093000
DTEND:20230927T123000
DESCRIPTION:
LOCATION:Невский пр.\, д. 22-24\, 4 этаж
ORGANIZER:mailto:conference@vedomosti.ru
SUMMARY:Малое и среднее предпринимательство
  2023: правовой комплаенс\, управленческие 
 решения и лучшие практики
URL:http://events.vedomosti.ru/events/spb_bussiness_branch_msp_
BEGIN:VALARM
ACTION:DISPLAY
TRIGGER:-P1D
DESCRIPTION:Завтра\, в 09:30. Малое и среднее пред
 принимательство 2023: правовой комплаенс\,
  управленческие решения и лучшие практи
 ки
END:VALARM
END:VEVENT
END:VCALENDAR
