BEGIN:VCALENDAR
VERSION:2.0
PRODID:icalendar-ruby
CALSCALE:GREGORIAN
BEGIN:VEVENT
DTSTAMP:20260421T040151Z
UID:c09499ea-447f-46b5-9d34-3b61e8594d2c
DTSTART:20211201T000000
DTEND:20211201T130000
DESCRIPTION:
LOCATION:
ORGANIZER:mailto:conference@vedomosti.ru
SUMMARY:Business Transfer Day: преемственность и насле
 дственное планирование
URL:http://events.vedomosti.ru/events/spb_business_transfer_day
BEGIN:VALARM
ACTION:DISPLAY
TRIGGER:-P1D
DESCRIPTION:Завтра\, в 00:00. Business Transfer Day: преемст
 венность и наследственное планирование
END:VALARM
END:VEVENT
END:VCALENDAR
