BEGIN:VCALENDAR
VERSION:2.0
PRODID:icalendar-ruby
CALSCALE:GREGORIAN
BEGIN:VEVENT
DTSTAMP:20260423T074905Z
UID:8a6e8b1d-9de7-4e02-9da5-3c6c8b567296
DTSTART:20230823T110000
DTEND:20230823T133000
DESCRIPTION:
ORGANIZER:mailto:conference@vedomosti.ru
SUMMARY:Государственно-частное партнерство:
  импульс развития регионов
URL:http://events.vedomosti.ru/events/spb_GHP_impuls_razvitia_regionov
BEGIN:VALARM
ACTION:DISPLAY
TRIGGER:-P1D
DESCRIPTION:Завтра\, в 11:00. Государственно-част
 ное партнерство: импульс развития регио
 нов
END:VALARM
END:VEVENT
END:VCALENDAR
