BEGIN:VCALENDAR
VERSION:2.0
PRODID:icalendar-ruby
CALSCALE:GREGORIAN
BEGIN:VEVENT
DTSTAMP:20260426T012510Z
UID:49a6cbce-3d0a-4a96-b70f-2aaf885c3da1
DTSTART:20260225T000000
DTEND:20260225T180000
DESCRIPTION:
LOCATION:Никольская улица\, 12
ORGANIZER:mailto:conference@vedomosti.ru
SUMMARY:Социальные инвестиции
URL:http://events.vedomosti.ru/events/socinvest2026
BEGIN:VALARM
ACTION:DISPLAY
TRIGGER:-P1D
DESCRIPTION:Завтра\, в 00:00. Социальные инвестиц
 ии
END:VALARM
END:VEVENT
END:VCALENDAR
